BEGIN:VCALENDAR
VERSION:2.0
PRODID:-//Parque San Cristóbal - ECPv4.6.24.1//NONSGML v1.0//EN
CALSCALE:GREGORIAN
METHOD:PUBLISH
X-WR-CALNAME:Parque San Cristóbal
X-ORIGINAL-URL:https://www.parquesancristobal.cl
X-WR-CALDESC:Eventos para Parque San Cristóbal
BEGIN:VEVENT
DTSTART;TZID=UTC-3:20240427T103000
DTEND;TZID=UTC-3:20240427T113000
DTSTAMP:20260425T204031
CREATED:20240426T210437Z
LAST-MODIFIED:20240426T210437Z
UID:40249-1714213800-1714217400@www.parquesancristobal.cl
SUMMARY:ESTEBAN ANDRES SUAZO MARINO
DESCRIPTION:Cremación\nESTEBAN ANDRES SUAZO MARINO (Q.E.P.D)\nUbicación: Crematorio \nVer Ubicación\n
URL:https://www.parquesancristobal.cl/obituario/esteban-andres-suazo-marino/
END:VEVENT
BEGIN:VEVENT
DTSTART;TZID=UTC-3:20240427T120000
DTEND;TZID=UTC-3:20240427T130000
DTSTAMP:20260425T204031
CREATED:20240426T210610Z
LAST-MODIFIED:20240426T210610Z
UID:40251-1714219200-1714222800@www.parquesancristobal.cl
SUMMARY:HERNAN DAVID GUTIERREZ OSSANDON
DESCRIPTION:Cremación\nHERNAN DAVID GUTIERREZ OSSANDON (Q.E.P.D)\nUbicación: Crematorio \nVer Ubicación\n
URL:https://www.parquesancristobal.cl/obituario/hernan-david-gutierrez-ossandon/
END:VEVENT
BEGIN:VEVENT
DTSTART;TZID=UTC-3:20240427T143000
DTEND;TZID=UTC-3:20240427T153000
DTSTAMP:20260425T204031
CREATED:20240426T210923Z
LAST-MODIFIED:20240426T210923Z
UID:40253-1714228200-1714231800@www.parquesancristobal.cl
SUMMARY:HERMINA DEL CARMEN ARMIJO MARCHANT
DESCRIPTION:Sepultación\nHERMINA DEL CARMEN ARMIJO MARCHANT (Q.E.P.D)\nUbicación: Cripta Aérea Llacolén – Número: 1030 Letra: U \nVer Ubicación\n
URL:https://www.parquesancristobal.cl/obituario/hermina-del-carmen-armijo-marchant/
END:VEVENT
BEGIN:VEVENT
DTSTART;TZID=UTC-3:20240427T150000
DTEND;TZID=UTC-3:20240427T160000
DTSTAMP:20260425T204031
CREATED:20240426T211025Z
LAST-MODIFIED:20240426T211025Z
UID:40255-1714230000-1714233600@www.parquesancristobal.cl
SUMMARY:JOSE ABRAHAM MENESES CARMONA
DESCRIPTION:Cremación\nJOSE ABRAHAM MENESES CARMONA (Q.E.P.D)\nUbicación: Crematorio \nVer Ubicación\n
URL:https://www.parquesancristobal.cl/obituario/jose-abraham-meneses-carmona/
END:VEVENT
END:VCALENDAR