BEGIN:VCALENDAR
VERSION:2.0
PRODID:-//Parque San Cristóbal - ECPv4.6.24.1//NONSGML v1.0//EN
CALSCALE:GREGORIAN
METHOD:PUBLISH
X-WR-CALNAME:Parque San Cristóbal
X-ORIGINAL-URL:https://www.parquesancristobal.cl
X-WR-CALDESC:Eventos para Parque San Cristóbal
BEGIN:VEVENT
DTSTART;TZID=UTC-3:20240425T103000
DTEND;TZID=UTC-3:20240425T113000
DTSTAMP:20260425T173553
CREATED:20240424T212837Z
LAST-MODIFIED:20240424T212837Z
UID:40235-1714041000-1714044600@www.parquesancristobal.cl
SUMMARY:SYLVIA MONICA VALDIVIA CARVAJAL
DESCRIPTION:Cremación\nSYLVIA MONICA VALDIVIA CARVAJAL (Q.E.P.D)\nUbicación: Crematorio \nVer Ubicación\n
URL:https://www.parquesancristobal.cl/obituario/sylvia-monica-valdivia-carvajal/
END:VEVENT
BEGIN:VEVENT
DTSTART;TZID=UTC-3:20240425T120000
DTEND;TZID=UTC-3:20240425T130000
DTSTAMP:20260425T173553
CREATED:20240424T212937Z
LAST-MODIFIED:20240424T212937Z
UID:40237-1714046400-1714050000@www.parquesancristobal.cl
SUMMARY:ALEJANDRINA DEL CARMEN CESPEDES RIOS
DESCRIPTION:Cremación\nALEJANDRINA DEL CARMEN CESPEDES RIOS (Q.E.P.D)\nUbicación: Crematorio \nVer Ubicación\n
URL:https://www.parquesancristobal.cl/obituario/alejandrina-del-carmen-cespedes-rios/
END:VEVENT
END:VCALENDAR