BEGIN:VCALENDAR
VERSION:2.0
PRODID:-//Parque San Cristóbal - ECPv4.6.24.1//NONSGML v1.0//EN
CALSCALE:GREGORIAN
METHOD:PUBLISH
X-WR-CALNAME:Parque San Cristóbal
X-ORIGINAL-URL:https://www.parquesancristobal.cl
X-WR-CALDESC:Eventos para Parque San Cristóbal
BEGIN:VEVENT
DTSTART;TZID=UTC-3:20240413T143000
DTEND;TZID=UTC-3:20240413T153000
DTSTAMP:20260422T085519
CREATED:20240412T213159Z
LAST-MODIFIED:20240412T213159Z
UID:40190-1713018600-1713022200@www.parquesancristobal.cl
SUMMARY:NELSON RENE PEREZ MIRANDA
DESCRIPTION:Sepultación\nNELSON RENE PEREZ MIRANDA (Q.E.P.D)\nUbicación: Jardín Nuevo – Número: 9 Letra: L \nVer Ubicación\n
URL:https://www.parquesancristobal.cl/obituario/nelson-rene-perez-miranda/
END:VEVENT
END:VCALENDAR