BEGIN:VCALENDAR
VERSION:2.0
PRODID:-//Parque San Cristóbal - ECPv4.6.24.1//NONSGML v1.0//EN
CALSCALE:GREGORIAN
METHOD:PUBLISH
X-WR-CALNAME:Parque San Cristóbal
X-ORIGINAL-URL:https://www.parquesancristobal.cl
X-WR-CALDESC:Eventos para Parque San Cristóbal
BEGIN:VEVENT
DTSTART;TZID=UTC-3:20240407T150000
DTEND;TZID=UTC-3:20240407T160000
DTSTAMP:20260421T031736
CREATED:20240408T135940Z
LAST-MODIFIED:20240408T135940Z
UID:40162-1712502000-1712505600@www.parquesancristobal.cl
SUMMARY:MAX EDUARDO HARRYS PIZARRO
DESCRIPTION:Cremación\nMAX EDUARDO HARRYS PIZARRO (Q.E.P.D)\nUbicación: Crematorio \nVer Ubicación\n
URL:https://www.parquesancristobal.cl/obituario/max-eduardo-harrys-pizarro/
END:VEVENT
END:VCALENDAR