BEGIN:VCALENDAR
VERSION:2.0
PRODID:-//Parque San Cristóbal - ECPv4.6.24.1//NONSGML v1.0//EN
CALSCALE:GREGORIAN
METHOD:PUBLISH
X-WR-CALNAME:Parque San Cristóbal
X-ORIGINAL-URL:https://www.parquesancristobal.cl
X-WR-CALDESC:Eventos para Parque San Cristóbal
BEGIN:VEVENT
DTSTART;TZID=UTC-3:20240405T120000
DTEND;TZID=UTC-3:20240405T130000
DTSTAMP:20260421T065330
CREATED:20240404T203300Z
LAST-MODIFIED:20240404T203300Z
UID:40154-1712318400-1712322000@www.parquesancristobal.cl
SUMMARY:JESSICA GEORGINA VILDOSOLA CONCHA
DESCRIPTION:Cremación\nJESSICA GEORGINA VILDOSOLA CONCHA (Q.E.P.D)\nUbicación: Crematorio \nVer Ubicación\n
URL:https://www.parquesancristobal.cl/obituario/jessica-georgina-vildosola-concha/
END:VEVENT
END:VCALENDAR