BEGIN:VCALENDAR
VERSION:2.0
PRODID:-//Parque San Cristóbal - ECPv4.6.24.1//NONSGML v1.0//EN
CALSCALE:GREGORIAN
METHOD:PUBLISH
X-WR-CALNAME:Parque San Cristóbal
X-ORIGINAL-URL:https://www.parquesancristobal.cl
X-WR-CALDESC:Eventos para Parque San Cristóbal
BEGIN:VEVENT
DTSTART;TZID=UTC-3:20240402T120000
DTEND;TZID=UTC-3:20240402T130000
DTSTAMP:20260425T122657
CREATED:20240402T123825Z
LAST-MODIFIED:20240402T123825Z
UID:40144-1712059200-1712062800@www.parquesancristobal.cl
SUMMARY:HUMBERTO EDUARDO CARMONA FLORES
DESCRIPTION:Cremación\nHUMBERTO EDUARDO CARMONA FLORES (Q.E.P.D)\nUbicación: Crematorio \nVer Ubicación\n
URL:https://www.parquesancristobal.cl/obituario/humberto-eduardo-carmona-flores/
END:VEVENT
BEGIN:VEVENT
DTSTART;TZID=UTC-3:20240402T160000
DTEND;TZID=UTC-3:20240402T170000
DTSTAMP:20260425T122657
CREATED:20240402T124112Z
LAST-MODIFIED:20240402T124112Z
UID:40146-1712073600-1712077200@www.parquesancristobal.cl
SUMMARY:MAURICIO ALEJANDRO ESCOBAR GONZALEZ
DESCRIPTION:Sepultación\nMAURICIO ALEJANDRO ESCOBAR GONZALEZ (Q.E.P.D)\nUbicación: Cripta Aérea Coloso Norte – Número: 333 Letra: G \nVer Ubicación\n
URL:https://www.parquesancristobal.cl/obituario/mauricio-alejandro-escobar-gonzalez/
END:VEVENT
END:VCALENDAR